BEGIN:VCALENDAR
VERSION:2.0
PRODID:-//Josea World Outreach - ECPv4.4.5//NONSGML v1.0//EN
CALSCALE:GREGORIAN
METHOD:PUBLISH
X-WR-CALNAME:Josea World Outreach
X-ORIGINAL-URL:https://joseaworld.org
X-WR-CALDESC:Events for Josea World Outreach
BEGIN:VEVENT
DTSTART;TZID=UTC+0:20190714T103000
DTEND;TZID=UTC+0:20190714T130000
DTSTAMP:20260421T175350
CREATED:20190708T132116Z
LAST-MODIFIED:20190708T210043Z
UID:2604-1563100200-1563109200@joseaworld.org
SUMMARY:Rev Toby is speaking at Harvest Mission Outreach Church London England
DESCRIPTION:[vc_row][vc_column][vc_column_text]\n\n \n\n \n\n \n\n \n\n \n\n \n\n \n\n \n\n \n\n \n\n \n\n \n\nRev Toby will be ministering at Harvest Mission Outreach Church London\,\n\n34 Electric Ave\, Brixton\, London SW9 8JT on Sunday 14\, July 2019\n\nTime: 10:30am - 1pm\n\nALL WELCOME[/vc_column_text][/vc_column][/vc_row]
URL:https://joseaworld.org/event/sunday-service/
LOCATION:34 Electric Ave\, Brixton\, London\, SW9 8JT\, United Kingdom
ATTACH;FMTTYPE=image/jpeg:https://joseaworld.org/wp-content/uploads/2019/07/IMG_5060-e1562592549491.jpg
END:VEVENT
END:VCALENDAR