BEGIN:VCALENDAR
VERSION:2.0
PRODID:-//Josea World Outreach - ECPv4.4.5//NONSGML v1.0//EN
CALSCALE:GREGORIAN
METHOD:PUBLISH
X-WR-CALNAME:Josea World Outreach
X-ORIGINAL-URL:https://joseaworld.org
X-WR-CALDESC:Events for Josea World Outreach
BEGIN:VEVENT
DTSTART;TZID=UTC+0:20200202T100000
DTEND;TZID=UTC+0:20200202T130000
DTSTAMP:20260421T175639
CREATED:20200130T150438Z
LAST-MODIFIED:20200130T150438Z
UID:4038-1580637600-1580648400@joseaworld.org
SUMMARY:Rev Toby is speaking at Christ Evangelical Church Leyton London this Sunday
DESCRIPTION:[vc_row][vc_column][vc_column_text]Rev Toby is speaking at Christ Evangelical Church Leyton London this Sunday at 10 am.\nAddress: 13 Newcomen Rd\, Leytonstone\, London E11 3PU[/vc_column_text][/vc_column][/vc_row]\n
URL:https://joseaworld.org/event/rev-toby-is-speaking-at-christ-evangelical-church-leyton-london-this-sunday/
LOCATION:13 Newcomen Road\, London\, E11 3PU\, United Kingdom
ATTACH;FMTTYPE=image/png:https://joseaworld.org/wp-content/uploads/2019/11/Toby-1.png
END:VEVENT
END:VCALENDAR