BEGIN:VCALENDAR
VERSION:2.0
PRODID:-//Josea World Outreach - ECPv4.4.5//NONSGML v1.0//EN
CALSCALE:GREGORIAN
METHOD:PUBLISH
X-WR-CALNAME:Josea World Outreach
X-ORIGINAL-URL:https://joseaworld.org
X-WR-CALDESC:Events for Josea World Outreach
BEGIN:VEVENT
DTSTART;TZID=UTC+0:20190418T100000
DTEND;TZID=UTC+0:20190421T170000
DTSTAMP:20260421T175802
CREATED:20190331T221301Z
LAST-MODIFIED:20190416T003256Z
UID:2234-1555581600-1555866000@joseaworld.org
SUMMARY:Rev Toby is ministering at RCCG Resurrection Power Parish
DESCRIPTION:L.E.D 7 CAMPAIGN AKWA IBOM\n\nCome and be equipped to win souls and make disciples for Jesus during this Easter period. Souls will be saved \, the sick shall be healed. There shall be testimonies . Join Rev Toby for this 4 day salvation\, healing and discipleship campaign at Rccg Resurrection Power Parish Provincial Headquarters Oron Akwa Ibom State Nigeria.
URL:https://joseaworld.org/event/rev-toby-is-ministering-at-rccg-resurrection-power-parish/
ATTACH;FMTTYPE=image/jpeg:https://joseaworld.org/wp-content/uploads/2019/03/image-8-e1555374704517.jpeg
ORGANIZER;CN="JWO%20in%20association%20with%20RCCG%20Resurrection%20Parish":MAILTO:Info@josea.org
END:VEVENT
END:VCALENDAR