BEGIN:VCALENDAR
VERSION:2.0
PRODID:-//Josea World Outreach - ECPv4.4.5//NONSGML v1.0//EN
CALSCALE:GREGORIAN
METHOD:PUBLISH
X-WR-CALNAME:Josea World Outreach
X-ORIGINAL-URL:https://joseaworld.org
X-WR-CALDESC:Events for Josea World Outreach
BEGIN:VEVENT
DTSTART;TZID=UTC+0:20190503T173000
DTEND;TZID=UTC+0:20190503T200000
DTSTAMP:20260421T175633
CREATED:20190330T231005Z
LAST-MODIFIED:20190416T002329Z
UID:2222-1556904600-1556913600@joseaworld.org
SUMMARY:Rev Toby is ministering at RCCG Omega Parish
DESCRIPTION:
URL:https://joseaworld.org/event/rev-toby-is-ministering-at-rccg-omega-parish/
LOCATION:Omega House Rumuodara\, Port Harcourt\, Rivers State\, Nigeria
ATTACH;FMTTYPE=image/jpeg:https://joseaworld.org/wp-content/uploads/2019/03/image-2-e1555374161661.jpeg
END:VEVENT
END:VCALENDAR