BEGIN:VCALENDAR
VERSION:2.0
PRODID:-//Josea World Outreach - ECPv4.4.5//NONSGML v1.0//EN
CALSCALE:GREGORIAN
METHOD:PUBLISH
X-WR-CALNAME:Josea World Outreach
X-ORIGINAL-URL:https://joseaworld.org
X-WR-CALDESC:Events for Josea World Outreach
BEGIN:VEVENT
DTSTART;TZID=UTC+0:20200329T100000
DTEND;TZID=UTC+0:20200329T123000
DTSTAMP:20260421T163556
CREATED:20200304T133645Z
LAST-MODIFIED:20200304T133645Z
UID:4270-1585476000-1585485000@joseaworld.org
SUMMARY:March 29: LED7 Evangelism Campaign with Rev Toby Iweka @ RCCG House of Praise\, Grays U.K
DESCRIPTION:\nLED7 Evangelism Seminar & practical outreach @ RCCG House of Praise GRAYS\n \nVenue: RCCG House of Praise\, Grays Campus\, Quarry Hill\, Grays RM17 5BT\nDates: Sunday\, March 29\, 10 am - 12.30 pm\n \nSPEAKER: REV TOBY IWEKA\n \nTHEME: BELIEVERS IN ACTION\n \nALL WELCOME
URL:https://joseaworld.org/event/march-29-led7-evangelism-campaign-with-rev-toby-iweka-rccg-house-of-praise-grays-u-k/
ATTACH;FMTTYPE=image/jpeg:https://joseaworld.org/wp-content/uploads/2020/03/Toby-Profile-pic.jpg
END:VEVENT
END:VCALENDAR