BEGIN:VCALENDAR
VERSION:2.0
PRODID:-//Josea World Outreach - ECPv4.4.5//NONSGML v1.0//EN
CALSCALE:GREGORIAN
METHOD:PUBLISH
X-WR-CALNAME:Josea World Outreach
X-ORIGINAL-URL:https://joseaworld.org
X-WR-CALDESC:Events for Josea World Outreach
BEGIN:VEVENT
DTSTART;TZID=UTC+0:20200315T110000
DTEND;TZID=UTC+0:20200315T120000
DTSTAMP:20260421T163437
CREATED:20200304T135444Z
LAST-MODIFIED:20200304T135444Z
UID:4277-1584270000-1584273600@joseaworld.org
SUMMARY:March 15-18\,21: LED7 Evangelism Seminar & Practical Outreach @ RCCG Beautiful Gate Parish\, London UK
DESCRIPTION:LED7 Evangelism Seminar & practical outreach @ RCCG Beautiful Gate\, Battersea Parish\n \nVenue: 108 Battersea High Street\, London SW11 3HP\nDates: Sunday\, March 15\, 11 am – 12.30 pm &  March 16-18 @ 6pm\nPractical Outreach: Saturday\, March 21\nSPEAKER: REV TOBY IWEKA\n\nTHEME: BELIEVERS IN ACTION\n\nALL WELCOME
URL:https://joseaworld.org/event/march-15-1821-led7-evangelism-seminar-practical-outreach-rccg-beautiful-gate-parish-london-uk/
ATTACH;FMTTYPE=image/jpeg:https://joseaworld.org/wp-content/uploads/2020/03/Toby-Profile-pic.jpg
END:VEVENT
END:VCALENDAR