BEGIN:VCALENDAR
VERSION:2.0
PRODID:-//Josea World Outreach - ECPv4.4.5//NONSGML v1.0//EN
CALSCALE:GREGORIAN
METHOD:PUBLISH
X-WR-CALNAME:Josea World Outreach
X-ORIGINAL-URL:https://joseaworld.org
X-WR-CALDESC:Events for Josea World Outreach
BEGIN:VEVENT
DTSTART;TZID=UTC+0:20190914T120000
DTEND;TZID=UTC+0:20190914T150000
DTSTAMP:20260421T175427
CREATED:20190829T110717Z
LAST-MODIFIED:20190829T200849Z
UID:2857-1568462400-1568473200@joseaworld.org
SUMMARY:Live Transformation Crusade
DESCRIPTION:
URL:https://joseaworld.org/event/live-transfprmation-crusade/
LOCATION:34 Electric Ave\, Brixton\, London\, SW9 8JT\, United Kingdom
ATTACH;FMTTYPE=image/jpeg:https://joseaworld.org/wp-content/uploads/2019/08/LT-CRUSADE-e1567108746599.jpg
END:VEVENT
END:VCALENDAR