BEGIN:VCALENDAR
VERSION:2.0
PRODID:-//Josea World Outreach - ECPv4.4.5//NONSGML v1.0//EN
CALSCALE:GREGORIAN
METHOD:PUBLISH
X-WR-CALNAME:Josea World Outreach
X-ORIGINAL-URL:https://joseaworld.org
X-WR-CALDESC:Events for Josea World Outreach
BEGIN:VEVENT
DTSTART;TZID=UTC+0:20190915T103000
DTEND;TZID=UTC+0:20190915T130000
DTSTAMP:20260421T192236
CREATED:20190829T111649Z
LAST-MODIFIED:20190829T201205Z
UID:2864-1568543400-1568552400@joseaworld.org
SUMMARY:Live Transformation Crusade
DESCRIPTION:
URL:https://joseaworld.org/event/live-transformation-crusade-2/
LOCATION:34 Electric Ave\, Brixton\, London\, SW9 8JT\, United Kingdom
CATEGORIES:Category Event
ATTACH;FMTTYPE=image/jpeg:https://joseaworld.org/wp-content/uploads/2019/08/LT-CRUSADE-e1567108746599.jpg
END:VEVENT
END:VCALENDAR