BEGIN:VCALENDAR
VERSION:2.0
PRODID:-//Josea World Outreach - ECPv4.4.5//NONSGML v1.0//EN
CALSCALE:GREGORIAN
METHOD:PUBLISH
X-WR-CALNAME:Josea World Outreach
X-ORIGINAL-URL:https://joseaworld.org
X-WR-CALDESC:Events for Josea World Outreach
BEGIN:VEVENT
DTSTART;TZID=UTC+0:20200204T180000
DTEND;TZID=UTC+0:20200204T200000
DTSTAMP:20260421T163745
CREATED:20191220T201552Z
LAST-MODIFIED:20191220T201919Z
UID:3686-1580839200-1580846400@joseaworld.org
SUMMARY:LED7 Evangelism Seminar & Outreach with Rev Toby Iweka @ New Wine Church Lagos Nigeria
DESCRIPTION:
URL:https://joseaworld.org/event/led7-evangelism-seminar-outreach-with-rev-toby-iweka-new-wine-church-lagos-nigeria-2/
ATTACH;FMTTYPE=image/png:https://joseaworld.org/wp-content/uploads/2019/11/Toby-1.png
END:VEVENT
END:VCALENDAR