BEGIN:VCALENDAR
VERSION:2.0
PRODID:-//Josea World Outreach - ECPv4.4.5//NONSGML v1.0//EN
CALSCALE:GREGORIAN
METHOD:PUBLISH
X-WR-CALNAME:Josea World Outreach
X-ORIGINAL-URL:https://joseaworld.org
X-WR-CALDESC:Events for Josea World Outreach
BEGIN:VEVENT
DTSTART;TZID=UTC+0:20200308T100000
DTEND;TZID=UTC+0:20200308T100000
DTSTAMP:20260421T163534
CREATED:20200304T115812Z
LAST-MODIFIED:20200306T153906Z
UID:4242-1583661600-1583661600@joseaworld.org
SUMMARY:March 8-11\,14: LED7 Evangelism Campaign with Rev Toby Iweka @ RCCG House of Praise\, London U.K
DESCRIPTION:[vc_row][vc_column][vc_column_text]\nLED7 Evangelism Seminar & practical outreach @ RCCG House of Praise\n \nVenue: 254-270 Camberwell Rd\, Camberwell\, London SE5 0DP\nDates: Sunday March 8\, 10am  &  12.30pm and March 9-11 @ 6pm .\nSat March 14 - Outreach\n \nSPEAKER: REV TOBY IWEKA\n \nTHEME: BELIEVERS IN ACTION\n \nALL WELCOME\n[/vc_column_text][/vc_column][/vc_row]
URL:https://joseaworld.org/event/led7-evangelism-campaign-with-rev-toby-iweka-rccg-house-of-praise-london-u-k/
ATTACH;FMTTYPE=image/jpeg:https://joseaworld.org/wp-content/uploads/2020/03/RCCG-House-of-Praise-2.jpg
END:VEVENT
END:VCALENDAR