BEGIN:VCALENDAR
VERSION:2.0
PRODID:-//Josea World Outreach - ECPv4.4.5//NONSGML v1.0//EN
CALSCALE:GREGORIAN
METHOD:PUBLISH
X-WR-CALNAME:Josea World Outreach
X-ORIGINAL-URL:https://joseaworld.org
X-WR-CALDESC:Events for Josea World Outreach
BEGIN:VEVENT
DTSTART;VALUE=DATE:20190324
DTEND;VALUE=DATE:20190331
DTSTAMP:20260421T175612
CREATED:20190321T185030Z
LAST-MODIFIED:20190322T085452Z
UID:1920-1553418000-1554022799@joseaworld.org
SUMMARY:Rev Toby Evangelism Seminar & Outreach with RCCG Word Alive Parish (LED7 Campaign)
DESCRIPTION:LED7 CAMPAIGN (Every Home for Christ)
URL:https://joseaworld.org/event/evangelism-seminar-outreach-led7-campaign/
LOCATION:17 Wadikom Street\, Woji\, Port Harcourt\, Rivers State\, Nigeria
CATEGORIES:Category Event
ATTACH;FMTTYPE=image/jpeg:https://joseaworld.org/wp-content/uploads/2019/02/0_0_0_0_483_362_csupload_69678519.jpg
END:VEVENT
END:VCALENDAR