BEGIN:VCALENDAR
VERSION:2.0
PRODID:-//Josea World Outreach - ECPv4.4.5//NONSGML v1.0//EN
CALSCALE:GREGORIAN
METHOD:PUBLISH
X-WR-CALNAME:Josea World Outreach
X-ORIGINAL-URL:https://joseaworld.org
X-WR-CALDESC:Events for Josea World Outreach
BEGIN:VEVENT
DTSTART;TZID=UTC+0:20190428T090000
DTEND;TZID=UTC+0:20190504T200000
DTSTAMP:20260421T193200
CREATED:20190414T225726Z
LAST-MODIFIED:20190415T073117Z
UID:2258-1556442000-1557000000@joseaworld.org
SUMMARY:Evangelism Seminar & Outreach ( LED7 Campaign) At El Shaddai Ministries Port Harcourt Nigeria
DESCRIPTION: \n\nEvangelism training and practical outreach to win souls\, make disciples and heal the sick with Rev Toby ministering.\n\nDate: April 28\,29\,30\, May 1 & 4 2019.\n\nSunday ministration Time: 9am - 12noon ( Sun Apr 28)\,\n\nEvangelism Seminar sessions April 29\,30 & May 1  (5:30pm - 7:30pm)\n\nOutdoor Evangelism: May 4 (9am -12 noon)\n\nMiracle Crusade: May 4 ( 5pm)\n\nVenue: El Shaddai Ministries. No 1 Elijiji Estate (behind Orian Hotel\, East West Road\, Rumuodara Port Harcourt Nigeria
URL:https://joseaworld.org/event/evangelism-seminar-outreach-led7-campaign-at-el-shaddai-ministries-port-harcourt-nigeria/
LOCATION:No 1 Elijiji Estate\,( Behind Orion Hotel) East West Road\, Rumuodara\, Port Harcourt \, Rivers State\, Nigeria
ATTACH;FMTTYPE=image/jpeg:https://joseaworld.org/wp-content/uploads/2019/04/image-1-e1562591771641.jpeg
END:VEVENT
END:VCALENDAR