BEGIN:VCALENDAR
VERSION:2.0
PRODID:-//Josea World Outreach - ECPv4.4.5//NONSGML v1.0//EN
CALSCALE:GREGORIAN
METHOD:PUBLISH
X-WR-CALNAME:Josea World Outreach
X-ORIGINAL-URL:https://joseaworld.org
X-WR-CALDESC:Events for Josea World Outreach
BEGIN:VEVENT
DTSTART;TZID=UTC+0:20230625T110000
DTEND;TZID=UTC+0:20230625T130000
DTSTAMP:20260421T175550
CREATED:20230622T125740Z
LAST-MODIFIED:20230622T125740Z
UID:5099-1687690800-1687698000@joseaworld.org
SUMMARY:Evangelism Explosion with Rev Toby Iweka
DESCRIPTION:[caption id="attachment_5100" align="aligncenter" width="1024"] Evangelism Explosion with Rev Toby Iweka[/caption]\n\nCome and be equipped and empowered to take lands and territories for Christ.\n\nEmail: info@joseaworld.org
URL:https://joseaworld.org/event/evangelism-explosion-with-rev-toby-iweka/
LOCATION:Kingsland Hotel\, London\, NW9 9RR\, United Kingdom
ATTACH;FMTTYPE=image/jpeg:https://joseaworld.org/wp-content/uploads/2023/06/IMG-20230622-WA0006.jpg
END:VEVENT
END:VCALENDAR